BEGIN:VCALENDAR
VERSION:2.0
PRODID:-//Transcend Paranormal - ECPv6.15.13//NONSGML v1.0//EN
CALSCALE:GREGORIAN
METHOD:PUBLISH
X-WR-CALNAME:Transcend Paranormal
X-ORIGINAL-URL:http://www.transcendparanormal.com
X-WR-CALDESC:Events for Transcend Paranormal
REFRESH-INTERVAL;VALUE=DURATION:PT1H
X-Robots-Tag:noindex
X-PUBLISHED-TTL:PT1H
BEGIN:VTIMEZONE
TZID:UTC
BEGIN:STANDARD
TZOFFSETFROM:+0000
TZOFFSETTO:+0000
TZNAME:UTC
DTSTART:20200101T000000
END:STANDARD
END:VTIMEZONE
BEGIN:VEVENT
DTSTART;TZID=UTC:20211016T180000
DTEND;TZID=UTC:20211016T210000
DTSTAMP:20260423T235353
CREATED:20211005T013614Z
LAST-MODIFIED:20211005T013614Z
UID:322-1634407200-1634418000@www.transcendparanormal.com
SUMMARY:Spirits of Scotchtown Lantern Tours
DESCRIPTION:Does the ghost of John Chiswell\, infamous son of the original builder of Scotchtown\, still roam these grounds?\nEnjoy an evening of warm cider and cookies while tales of spirits and ghosts are shared by Scotchtown staff and Transcend Paranormal.\n \nCostumes are welcome. Warm clothes and comfortable shoes are encouraged. This event is hosted entirely outdoors. No refunds given unless the event must be cancelled by Preservation Virginia due to inclement weather or unforeseen circumstances.\n \nAll COVID-19 protocols will be followed including wearing face masks and social distancing.\n \nTours will start every 20 minutes from 6 p.m. to 9 p.m.\, 15 person max per time slot.\n \nPurchase Your Tickets!\n \n 
URL:http://www.transcendparanormal.com/event/spirits-of-scotchtown-lantern-tours/
LOCATION:Scotchtown\, 16120 Chiswell Ln\, \, VA\, Beaverdam\, VA\, 23015\, United States
CATEGORIES:Tour
ATTACH;FMTTYPE=image/jpeg:http://www.transcendparanormal.com/wp-content/uploads/2021/10/https___cdn.evbuc_.com_images_152815009_198982691465_1_original.jpg
END:VEVENT
BEGIN:VEVENT
DTSTART;TZID=UTC:20210916T200000
DTEND;TZID=UTC:20210916T210000
DTSTAMP:20260423T235353
CREATED:20210825T052147Z
LAST-MODIFIED:20210825T052147Z
UID:305-1631822400-1631826000@www.transcendparanormal.com
SUMMARY:Haunted Hanover Tavern Tours
DESCRIPTION:Join Transcend Paranormal for a tour of Historic Hanover Tavern as we share tales of paranormal happenings at the Tavern\, both new and old.\n \nThe tour lasts for approximately 1 hour.\n \nPlease arrive 15 minutes early and check-in at the Reception Desk for the tour.\n \nTickets are $10 a person and benefit the Hanover Tavern Foundation 501(c)(3).\nAdvanced tickets required.\n \nPurchase Your Tickets!\n \n 
URL:http://www.transcendparanormal.com/event/haunted-hanover-tavern-tours-3/
LOCATION:Hanover Tavern\, 13181 Hanover Courthouse Road\, Hanover\, VA\, 23069\, United States
CATEGORIES:Tour
ATTACH;FMTTYPE=image/png:http://www.transcendparanormal.com/wp-content/uploads/2021/07/GhostTours.png
ORGANIZER;CN="Transcend Paranormal":MAILTO:transcendparanormal@gmail.com
END:VEVENT
BEGIN:VEVENT
DTSTART;TZID=UTC:20210819T210000
DTEND;TZID=UTC:20210819T220000
DTSTAMP:20260423T235353
CREATED:20210723T053555Z
LAST-MODIFIED:20210723T053555Z
UID:286-1629406800-1629410400@www.transcendparanormal.com
SUMMARY:Haunted Hanover Tavern Tours
DESCRIPTION:Join us for a tour of Historic Hanover Tavern as we share tales of paranormal happenings at the Tavern\, both new and old.\n \nThe tour lasts for approximately 1 hour.\n \nPlease arrive 15 minutes early and check-in at the Reception Desk for the tour.\n \nTickets are $10 a person and benefit the Hanover Tavern Foundation 501(c)(3).\n \nAdvanced tickets required.\n \nPurchase Your Tickets!
URL:http://www.transcendparanormal.com/event/haunted-hanover-tavern-tours-2/
LOCATION:Hanover Tavern\, 13181 Hanover Courthouse Road\, Hanover\, VA\, 23069\, United States
CATEGORIES:Tour
ATTACH;FMTTYPE=image/png:http://www.transcendparanormal.com/wp-content/uploads/2021/07/GhostTours.png
END:VEVENT
END:VCALENDAR