BEGIN:VCALENDAR
VERSION:2.0
PRODID:-//Transcend Paranormal - ECPv6.15.13//NONSGML v1.0//EN
CALSCALE:GREGORIAN
METHOD:PUBLISH
X-ORIGINAL-URL:http://www.transcendparanormal.com
X-WR-CALDESC:Events for Transcend Paranormal
REFRESH-INTERVAL;VALUE=DURATION:PT1H
X-Robots-Tag:noindex
X-PUBLISHED-TTL:PT1H
BEGIN:VTIMEZONE
TZID:UTC
BEGIN:STANDARD
TZOFFSETFROM:+0000
TZOFFSETTO:+0000
TZNAME:UTC
DTSTART:20200101T000000
END:STANDARD
END:VTIMEZONE
BEGIN:VEVENT
DTSTART;VALUE=DATE:20220423
DTEND;VALUE=DATE:20220424
DTSTAMP:20260423T210511
CREATED:20220203T064658Z
LAST-MODIFIED:20220203T064804Z
UID:347-1650672000-1650758399@www.transcendparanormal.com
SUMMARY:EnigmaCons 2022
DESCRIPTION:EngimaCons is an all-inclusive one day conference at St Albans Sanatorium. \nSt. Albans has had a very rich history. This area was witness to multiple clashes between Native Americans and the settlers from the Old World. During the War Between the States northern forces shelled Radford – then a small place called Central Depot from the ridge that overlooks the river which St Albans would be built on. After the brutal war St Albans Boys School was founded in 1892. In the early 1900’s St Albans became a treatment center for those suffering from mental issues. The haunting history of St. Albans was born even before the building stood on the property. \nToday\, St. Albans Sanatorium is a paranormal research center\, and quite possibly one of the most haunted locations on the East Coast. \nJoin Transcend Paranormal\, along with a slew of amazing teams and speakers as we raise funds for the continued restoration and preservation of  this 130+ year old building. \nTickets and all information can be found here!\nPurchase Your Tickets!
URL:http://www.transcendparanormal.com/event/enigmacons-2022/
LOCATION:VA
CATEGORIES:Conference,Investigation,Lecture/Presentation
ATTACH;FMTTYPE=image/jpeg:http://www.transcendparanormal.com/wp-content/uploads/2022/02/253937011_368517188363982_5248317354685132430_n-min.jpg
END:VEVENT
BEGIN:VEVENT
DTSTART;VALUE=DATE:20220121
DTEND;VALUE=DATE:20220123
DTSTAMP:20260423T210511
CREATED:20211018T131915Z
LAST-MODIFIED:20211021T181154Z
UID:328-1642723200-1642895999@www.transcendparanormal.com
SUMMARY:Hanover Tavern ParaCon
DESCRIPTION:𝐒𝐭𝐚𝐫𝐭 𝟐𝟎𝟐𝟐 𝐨𝐟𝐟 𝐫𝐢𝐠𝐡𝐭 𝐚𝐧𝐝 𝐣𝐨𝐢𝐧 𝐮𝐬 𝐟𝐨𝐫 𝐭𝐡𝐞 𝐟𝐢𝐫𝐬𝐭 𝐞𝐯𝐞𝐫 𝐇𝐚𝐧𝐨𝐯𝐞𝐫 𝐓𝐚𝐯𝐞𝐫𝐧 𝐏𝐚𝐫𝐚𝐂𝐨𝐧 𝐨𝐧 𝐉𝐚𝐧𝐮𝐚𝐫𝐲 𝟐𝟏𝐬𝐭 & 𝟐𝟐𝐧𝐝!\n \nWhether you’ve joined us at the Hanover Tavern before\, or this will be your first time exploring this beautiful building\, welcome to the Hanover Tavern ParaCon!\n​We’re going to have a jam-packed weekend of Paranormal fun and learning. You’ll be among some of the most selfless and knowledgeable individuals\, groups\, teams\, and organizations within the Paranormal. This event is about coming together as a community to unite under one roof; historical preservation.\n \n​𝟏𝟎𝟎% 𝐨𝐟 𝐭𝐡𝐞 𝐩𝐫𝐨𝐜𝐞𝐞𝐝𝐬 𝐟𝐫𝐨𝐦 𝐭𝐡𝐞 𝐇𝐚𝐧𝐨𝐯𝐞𝐫 𝐓𝐚𝐯𝐞𝐫𝐧 𝐏𝐚𝐫𝐚𝐂𝐨𝐧 𝐰𝐢𝐥𝐥 𝐛𝐞 𝐠𝐨𝐢𝐧𝐠 𝐝𝐢𝐫𝐞𝐜𝐭𝐥𝐲 𝐭𝐨 𝐭𝐡𝐞 𝐇𝐚𝐧𝐨𝐯𝐞𝐫 𝐓𝐚𝐯𝐞𝐫𝐧\n𝐅𝐨𝐮𝐧𝐝𝐚𝐭𝐢𝐨𝐧\, with the intent and purpose to support the Foundation in their continued efforts of restoration of the Tavern and the educational programming they create for all. Historic sites are a beacon of knowledge and provide opportunities for growth; not only for the paranormal field\, but also the community at large.\n \n​𝐉𝐨𝐢𝐧 𝐮𝐬 𝐚𝐬 𝐰𝐞 𝐫𝐚𝐥𝐥𝐲 𝐚𝐫𝐨𝐮𝐧𝐝 𝐭𝐡𝐞 𝐇𝐚𝐧𝐨𝐯𝐞𝐫 𝐓𝐚𝐯𝐞𝐫𝐧 𝐭𝐨 𝐬𝐮𝐩𝐩𝐨𝐫𝐭 𝐭𝐡𝐞𝐬𝐞 𝐞𝐧𝐝𝐞𝐚𝐯𝐨𝐫𝐬\, 𝐚𝐧𝐝 𝐟𝐢𝐧𝐝 𝐲𝐨𝐮𝐫𝐬𝐞𝐥𝐟 𝐩𝐚𝐫𝐭 𝐨𝐟 𝐬𝐨𝐦𝐞𝐭𝐡𝐢𝐧𝐠 𝐛𝐢𝐠𝐠𝐞𝐫 𝐭𝐡𝐚𝐧 𝐚𝐧𝐲 𝐬𝐢𝐧𝐠𝐥𝐞 𝐨𝐧𝐞 𝐨𝐟 𝐮𝐬.\n \nThere has been a Tavern on the property since 1733\, when the first license for a Tavern at Hanover Courthouse was issued. The existing Tavern was built in stages and includes more than 12\,000 square feet on three floors. The earliest surviving portion of this building dates back to 1791\, with additions in the 1820’s\, 1830’s and the 1990’s.\nSuch historical figures as George Washington\, Lord Cornwallis\, Marquis de Lafayette\, Patrick Henry\, P.T. Barnum\, and even Edgar Allen Poe graced the halls of Hanover Tavern. During the Civil War\, both Union and Confederate troops utilized the Tavern.\n \nWith so much history packed into this building\, has every guest that checked into Hanover Tavern truly checked out? The numerous paranormal teams who have investigated the Tavern would tell you “no”\, citing disembodied voices\, full body apparitions\, and countless EVPs suggesting that no one is ever truly alone in the Tavern.\n \n𝟏𝟎𝟎% 𝐨𝐟 𝐭𝐡𝐞 𝐩𝐫𝐨𝐜𝐞𝐞𝐝𝐬 𝐟𝐫𝐨𝐦 𝐭𝐡𝐢𝐬 𝐞𝐯𝐞𝐧𝐭 𝐰𝐢𝐥𝐥 𝐠𝐨 𝐝𝐢𝐫𝐞𝐜𝐭𝐥𝐲 𝐭𝐨 𝐇𝐚𝐧𝐨𝐯𝐞𝐫 𝐓𝐚𝐯𝐞𝐫𝐧 𝐅𝐨𝐮𝐧𝐝𝐚𝐭𝐢𝐨𝐧 𝐟𝐨𝐫 𝐭𝐡𝐞𝐢𝐫 𝐜𝐨𝐧𝐭𝐢𝐧𝐮𝐞𝐝 𝐫𝐞𝐬𝐭𝐨𝐫𝐚𝐭𝐢𝐨𝐧 𝐚𝐧𝐝 𝐩𝐫𝐨𝐭𝐞𝐜𝐭𝐢𝐨𝐧 𝐞𝐟𝐟𝐨𝐫𝐭𝐬\, 𝐚𝐬 𝐰𝐞𝐥𝐥 𝐚𝐬 𝐞𝐝𝐮𝐜𝐚𝐭𝐢𝐨𝐧𝐚𝐥 𝐩𝐫𝐨𝐠𝐫𝐚𝐦𝐦𝐢𝐧𝐠!\n \nMore Information can be found at the Hanover Tavern ParaCon Website!\n \nPurchase Your Tickets!\n \n 
URL:http://www.transcendparanormal.com/event/hanover-tavern-paracon/
LOCATION:Hanover Tavern\, 13181 Hanover Courthouse Road\, Hanover\, VA\, 23069\, United States
CATEGORIES:Conference,Investigation,Lecture/Presentation
ATTACH;FMTTYPE=image/png:http://www.transcendparanormal.com/wp-content/uploads/2021/10/TavernParaConBanner-1.png
ORGANIZER;CN="Transcend Paranormal":MAILTO:transcendparanormal@gmail.com
END:VEVENT
BEGIN:VEVENT
DTSTART;TZID=UTC:20210925T080000
DTEND;TZID=UTC:20210925T170000
DTSTAMP:20260423T210511
CREATED:20210714T185854Z
LAST-MODIFIED:20210902T061034Z
UID:276-1632556800-1632589200@www.transcendparanormal.com
SUMMARY:World's Largest Ghost Hunt: Dunnlora Inn
DESCRIPTION:𝐉𝐨𝐢𝐧 𝐓𝐫𝐚𝐧𝐬𝐜𝐞𝐧𝐝 𝐏𝐚𝐫𝐚𝐧𝐨𝐫𝐦𝐚𝐥 𝐟𝐨𝐫 𝐚𝐧 𝐞𝐯𝐞𝐧𝐢𝐧𝐠 𝐮𝐧𝐥𝐢𝐤𝐞 𝐚𝐧𝐲 𝐨𝐭𝐡𝐞𝐫!\nOn September 25th\, paranormal teams and haunted locations across the globe will be uniting for a day of exploration of the paranormal – the World’s Largest Ghost Hunt. We’ve partnered up with countless groups with one mission in mind – to help preserve the amazing historical sites and locations across the world. We want YOU to join us as we support one of Virginia’s Most Haunted Bed & Breakfasts – the Dunnlora Inn. We’re not doing it alone though…\n \n𝐊𝐢𝐜𝐤 𝐭𝐡𝐞 𝐞𝐯𝐞𝐧𝐢𝐧𝐠 𝐨𝐟𝐟 𝐰𝐢𝐭𝐡 𝐚 𝐆𝐚𝐥𝐥𝐞𝐫𝐲 𝐑𝐞𝐚𝐝𝐢𝐧𝐠…\nTo start the evening\, join the renowned Psychic Mediums Ashley & Misty Conner for a gallery reading. You’ll have the chance to connect & receive messages from the other side in an outdoor open reading. The Conner Sisters have been in the paranormal for over a decade now\, investigating some of the most notoriously haunted locations in America. They’ve partnered with countless paranormal teams to assist in cases – giving them ample time to grow & hone their skills. Now you have the opportunity to sit with them\, a chance to connect with those across the veil\, and hear their own stories as they explored haunted locations\, and their adventures as they grew their psychic & medium abilities.\n \n𝐓𝐡𝐞 𝐧𝐢𝐠𝐡𝐭 𝐢𝐬𝐧’𝐭 𝐨𝐯𝐞𝐫 𝐲𝐞𝐭…\n𝐒𝐭𝐞𝐩 𝐛𝐚𝐜𝐤 𝐢𝐧 𝐭𝐢𝐦𝐞 𝐭𝐨 𝐭𝐡𝐞 𝐫𝐨𝐚𝐫𝐢𝐧𝐠 𝟏𝟗𝟐𝟎’𝐬 as you join Transcend Paranormal & the Conner Sisters on a paranormal investigation of the Dunnlora Inn.\nLocated in the small town of Mineral\, Virginia\, the Dunnlora Inn was built in 1916 by George and Selina Erginbright. The Erginbright’s passed Dunnlora down through the generations\, until it was purchased by Tony and Shenia Wong in 2016. Since then\, odd occurrences have become the normal within these walls.\nParanormal activity began to spike almost immediately upon renovating the house; equipment would come unplugged\, workers would report seeing ghostly figures walking through the halls\, and on numerous occasions would hear talking in the Inn – when no one else was there. Overnight guests have heard doors open and close\, or the touch of someone playing with their hair as they sleep.\nSince this time\, numerous paranormal investigators and have visited the building in search of answers.\n𝐍𝐨𝐰\, 𝐢𝐭’𝐬 𝐮𝐩 𝐭𝐨 𝐲𝐨𝐮 𝐭𝐨 𝐟𝐢𝐠𝐮𝐫𝐞 𝐨𝐮𝐭 𝐭𝐡𝐞 𝐦𝐲𝐬𝐭𝐞𝐫𝐲 𝐨𝐟 𝐭𝐡𝐞 𝐃𝐮𝐧𝐧𝐥𝐨𝐫𝐚 𝐈𝐧𝐧.\nWhat secrets lay within the walls of this 104 year old building? Were tales of this boarding house being a brothel true? Did the building hide a speak-easy somewhere within? Most importantly\, why did some guests check in\, but never check out?\n \n𝐓𝐡𝐢𝐬 𝐢𝐬 𝐚 𝐟𝐮𝐧𝐝𝐫𝐚𝐢𝐬𝐢𝐧𝐠 𝐞𝐯𝐞𝐧𝐭! 𝟏𝟎𝟎% 𝐨𝐟 𝐭𝐡𝐞 𝐩𝐫𝐨𝐜𝐞𝐞𝐝𝐬 𝐰𝐢𝐥𝐥 𝐠𝐨 𝐝𝐢𝐫𝐞𝐜𝐭𝐥𝐲 𝐭𝐨 𝐭𝐡𝐞 𝐃𝐮𝐧𝐧𝐥𝐨𝐫𝐚 𝐈𝐧𝐧 𝐟𝐨𝐫 𝐭𝐡𝐞𝐢𝐫 𝐜𝐨𝐧𝐭𝐢𝐧𝐮𝐞𝐝 𝐮𝐩𝐤𝐞𝐞𝐩 𝐚𝐧𝐝 𝐩𝐫𝐞𝐬𝐞𝐫𝐯𝐚𝐭𝐢𝐨𝐧 𝐨𝐟 𝐭𝐡𝐞 𝐛𝐮𝐢𝐥𝐝𝐢𝐧𝐠 𝐚𝐧𝐝 𝐠𝐫𝐨𝐮𝐧𝐝𝐬!\n \n———————————-\nThe Gallery Reading will begin promptly at 6PM. This will be outdoors (if weather permits). Please plan to bring your own fold-out chair or blanket to sit on for the Reading.\nStarting at 8PM\, we will have a Meet & Greet and Q&A with Transcend Paranormal\, the Conner Sisters\, & Dunnlora Inn owner Shenia Wong. We will also dive into the history of the Dunnlora Inn. Ask any questions you have about the Dunnlora Inn\, the paranormal activity reported at the Inn\, or any questions in general!\nThe Paranormal Investigation will begin at 9PM. We’ll break into groups and begin exploring the Dunnlora Inn\, attempting to encounter & record the paranormal on-goings reported within the building.\n \n———————————-\n𝐏𝐥𝐞𝐚𝐬𝐞 𝐍𝐨𝐭𝐞:\n– We will be breaking into small groups to investigate the building. Each group will be led by an investigator with equipment that may help you on your investigation!\n– Please do not put on fragrances prior to the investigation. Smells and scents are often reported at haunted locations as a sign of spirit activity\, and it will be difficult to identify if we are wearing fragrances.\n– Please do not wear loose jewelry\, baggy clothing\, etc. These often make extra sounds and noises that will make listening to and identifying E.V.P.s difficult!\n– There will be identified location(s) outside for you to smoke. All forms of cigarettes\, vapes\, e-cigs\, etc. are not to be utilized while within the building. There will be an identified receptacle for cigarette butt disposal.\n– Please do not plan to investigate under the influence of drugs or alcohol. We will ask you to leave the premise if so.\n– Weapons of any and all kinds are strictly forbidden.\n– Bring your equipment! We’ll have some that you can use within your groups\, but you are welcome to bring any equipment you have for investigating that you can carry with you. A flashlight is highly encouraged. Additionally\, if you do not have an audio recorder\, bring your phone! We’ll ask you to put it in airplane mode\, but you can still record audio onto your cellphone – a large number of people on our investigations have recorded EVPs on their phones!\n– Most importantly\, have fun! This investigation is for you\, so bring your ideas and thoughts for investigating! You never know what\, or who\, you will run into\, and we value your unique ideas and suggestions for investigating these locations! We urge you to be ready to be involved in the investigation! Think of some questions you’d like to ask in advance\, if you have any theories that we can test out\, and more!\n \n————————————\n𝐖𝐞 𝐫𝐞𝐜𝐨𝐦𝐦𝐞𝐧𝐝 𝐭𝐡𝐚𝐭 𝐚𝐥𝐥 𝐠𝐮𝐞𝐬𝐭𝐬:\n– Wear a facial mask if you have not been vaccinated\, according to CDC recommendations.\n– Practice Social Distancing.\n– Stay with your group through-out the duration of the evening.\nAdditionally\, we ask that anyone who has been exposed to someone suspected of having COVID-19 within 14 days leading up to the event\, to please stay home. Refunds will be issued if either situation occurs.\n \n𝐈𝐟 𝐲𝐨𝐮 𝐡𝐚𝐯𝐞 𝐚𝐧𝐲 𝐪𝐮𝐞𝐬𝐭𝐢𝐨𝐧𝐬 𝐨𝐫 𝐜𝐨𝐧𝐜𝐞𝐫𝐧𝐬\, 𝐩𝐥𝐞𝐚𝐬𝐞 𝐜𝐨𝐧𝐭𝐚𝐜𝐭 𝐓𝐫𝐚𝐧𝐬𝐜𝐞𝐧𝐝 𝐏𝐚𝐫𝐚𝐧𝐨𝐫𝐦𝐚𝐥.\n \nPurchase Your Tickets!\n \n 
URL:http://www.transcendparanormal.com/event/worlds-largest-ghost-hunt-dunnlora-inn/
LOCATION:Dunnlora Inn\, 903 Mineral Avenue\, Mineral\, VA\, 23117\, United States
CATEGORIES:Investigation,Lecture/Presentation
ATTACH;FMTTYPE=image/png:http://www.transcendparanormal.com/wp-content/uploads/2021/07/240959270_281458900040462_4879741092965790598_n.png
ORGANIZER;CN="Transcend Paranormal":MAILTO:transcendparanormal@gmail.com
END:VEVENT
BEGIN:VEVENT
DTSTART;TZID=UTC:20210911T090000
DTEND;TZID=UTC:20210911T230000
DTSTAMP:20260423T210511
CREATED:20210825T051926Z
LAST-MODIFIED:20210825T052157Z
UID:297-1631350800-1631401200@www.transcendparanormal.com
SUMMARY:The Psychic Faire at Brandy Station
DESCRIPTION:Healing Spirits Reiki and Energy Work and Spirit Guides Paranormal present The Psychic Faire at Brandy Station\, featuring the Sisterhood of Magick and Wonders at the Historic Fleetwood Church in Brandy Station\, Virginia. Join us for an exciting day of psychic readings\, healing\, vendors of fine\, magical\, and mysterious objects\, hands-on workshops\, food\, and more! Members of the Sisterhood include: Ronda Caudill\, Misty Conner\, Ashley Conner\, Pat O’Keefe\, Kelley Baker\, and Jennifer Woodward Proffit. \n \nAll proceeds from ticket sales go towards the restoration of the Historic Fleetwood Church\, LLC.\n \n\n9:00 am: Vendor set-up begins.\n11:30 am: Doors open to the public\n12:00 pm: The Faire officially begins!\n12:30 pm – 1:15 pm: Steve Dills & Christina Herold of Transcend Paranormal present Ghost in the Machine\n3:00 pm – 4:00 pm: A Gallery Reading with the Sisterhood of Magick and Wonders\n6:00 pm: The Faire closes\n7:30 pm – 11:00 pm: Dinner and a Victorian Séance with The Sisterhood of Magick and Wonders\n\n  \nPurchase Your Tickets! \n  \n 
URL:http://www.transcendparanormal.com/event/the-psychic-faire-at-brandy-station/
LOCATION:Historic Fleetwood Church\, 19526 Brandy Road\, Brandy Station\, 22714\, United States
CATEGORIES:Conference,Lecture/Presentation
ATTACH;FMTTYPE=image/jpeg:http://www.transcendparanormal.com/wp-content/uploads/2021/08/201554045_790768741800770_1955915934878806895_n.jpg
END:VEVENT
BEGIN:VEVENT
DTSTART;TZID=UTC:20210605T200000
DTEND;TZID=UTC:20210605T210000
DTSTAMP:20260423T210511
CREATED:20210525T174437Z
LAST-MODIFIED:20210525T174437Z
UID:113-1622923200-1622926800@www.transcendparanormal.com
SUMMARY:Life & Death Conference: The Devil in the Details
DESCRIPTION:Join Steve Dills\, Ricardo Atristain\, Vicki Schutz\, & Robert Bradley as they discuss a chilling demonic case study – June 5 @8pm ET on FACEBOOK LIVE!\n\n\nThis FREE lecture is presented as part of The Life & Death Online Virtual Event\, June 4-6\, 2021. A unique event exploring matters of life\, death and beyond…\n\n\nJoin the LIFE & DEATH ONLINE VIRTUAL EVENT here: https://www.facebook.com/groups/lifeanddeathevent2021\n#lifeanddeathevent2021\n\n\nConnect with Steve Dills & Transcend Paranormal:\nFACEBOOK: https://www.facebook.com/TranscendParanormal\nINSTAGRAM: https://www.instagram.com/transcendparanormal/\nWEB: http://transcendparanormal.com/\nEMAIL: CaseManager@TranscendParanormal.com\n\nConnect with CPRI: The Center for Paranormal Research and Investigation\, The oldest paranormal research society in Virginia. A member of the T.A.P.S. Family.\nFACEBOOK: https://www.facebook.com/VAcpri\nWEBSITE: http://www.centerpri.org/\nEMAIL: info@centerpri.org
URL:http://www.transcendparanormal.com/event/life-death-conference-the-devil-in-the-details/
LOCATION:VA
CATEGORIES:Conference,Lecture/Presentation
ATTACH;FMTTYPE=image/png:http://www.transcendparanormal.com/wp-content/uploads/2021/05/DevilInTheDetails.png
END:VEVENT
END:VCALENDAR